BEGIN:VCALENDAR
VERSION:2.0
PRODID:-//Triple R Oasis - ECPv6.15.20//NONSGML v1.0//EN
CALSCALE:GREGORIAN
METHOD:PUBLISH
X-ORIGINAL-URL:https://tripleroasis.com
X-WR-CALDESC:Events for Triple R Oasis
REFRESH-INTERVAL;VALUE=DURATION:PT1H
X-Robots-Tag:noindex
X-PUBLISHED-TTL:PT1H
BEGIN:VTIMEZONE
TZID:America/New_York
BEGIN:DAYLIGHT
TZOFFSETFROM:-0500
TZOFFSETTO:-0400
TZNAME:EDT
DTSTART:20240310T070000
END:DAYLIGHT
BEGIN:STANDARD
TZOFFSETFROM:-0400
TZOFFSETTO:-0500
TZNAME:EST
DTSTART:20241103T060000
END:STANDARD
BEGIN:DAYLIGHT
TZOFFSETFROM:-0500
TZOFFSETTO:-0400
TZNAME:EDT
DTSTART:20250309T070000
END:DAYLIGHT
BEGIN:STANDARD
TZOFFSETFROM:-0400
TZOFFSETTO:-0500
TZNAME:EST
DTSTART:20251102T060000
END:STANDARD
BEGIN:DAYLIGHT
TZOFFSETFROM:-0500
TZOFFSETTO:-0400
TZNAME:EDT
DTSTART:20260308T070000
END:DAYLIGHT
BEGIN:STANDARD
TZOFFSETFROM:-0400
TZOFFSETTO:-0500
TZNAME:EST
DTSTART:20261101T060000
END:STANDARD
END:VTIMEZONE
BEGIN:VEVENT
DTSTART;TZID=America/New_York:20251016T150000
DTEND;TZID=America/New_York:20251020T110000
DTSTAMP:20260415T224448
CREATED:20250708T175343Z
LAST-MODIFIED:20260301T234025Z
UID:987495497-1760626800-1760958000@tripleroasis.com
SUMMARY:Art in the Woods: Fall 2025
DESCRIPTION:Join us at Triple R Oasis for Art in the Woods\, a three day art & craft retreat. Art in the Woods allows you to “choose your own adventure”;  whether painting\, drawing\, scrapbooking\, creating pottery\, jewelry making\, reading\, writing or sewing\, bring the art or craft you love to do. There will be classes available and an onsite store with limited art supplies if you are just getting started or want to learn something new. Nestled in the Western North Carolina mountains\, Triple R Oasis affords you the opportunity to commune with nature\, see the fall colors and to enjoy both crisp mornings and a sky full of stars. \nThe retreat begins Thursday at 3:00pm and ends Sunday at 11am. Registration fee is $125 per day and includes lodging\, meals\, small gifts\, a class taught by professional art instructors\, your own space for creating during the weekend\, and use of non-consumable tools. \nWe want our events to be accessible for everyone and we can offer reduced rates based on special circumstances. Additionally\, you’ll receive a discount for you and a friend when you refer them to the event. Contact us for more information. \nWe plan to have 2 meals per day – brunch between 11am-noon and dinner at 6pm. Around that there will be plenty of snackable food and continental breakfast items available. Drinks will also be available. Please let us know if you have any special diet restrictions so we can see if we can accommodate. \nThis long weekend includes beautiful views\, arts & crafts\, games\, and connection! The Toe River is less than a mile from the Retreat Center and there is plenty of hiking opportunities available on our 30 acres or in surrounding parks. We are within a short drive to Asheville\, Grandfather Mountain\, Boone\, Blowing Rock\, and Mount Mitchell\, the highest peak on the East Coast. There’s plenty of adventure around if you decide to explore! \n			\n			\n				\n				\n				\n				\n			\n				\n				\n				\n				\n				\n				\n				\n				\n				\n				\n				What's Included\n				\n			\n			\n				\n				\n				\n				\n			\n				\n				\n				\n				\n				\n				\n				\n				\n				\n				\n				\n				\n				\n					\n				\n				\n				\n				\n				Up to 3 nights shared accommodations\n			\n				\n				\n				\n				\n				Brunch\, dinner\, snacks & drinks\n			\n				\n				\n				\n				\n				Plenty of time to create\n			\n				\n			\n			\n				\n				\n				\n				\n				\n				\n				\n				\n				\n				\n				\n				\n					\n				\n				\n				\n				\n				2 Hour art class: Photography\n			\n				\n				\n				\n				\n				Daily & nightly activities\n			\n				\n				\n				\n				\n				Optional leisurely hike on property\n			\n				\n			\n			\n				\n				\n				\n				\n			\n				\n				\n				\n				\n				\n				\n				\n				\n				\n				\n				Daily Schedule\n				\n			\n			\n				\n				\n				\n				\n			\n				\n				\n				\n				\n				\n				\n				\n				\n				\n				\n				Thursday\n			\n				\n				\n				\n				\n				\n				\n				\n					\n				\n				\n				\n				\n				3pm: Welcome\n			\n				\n				\n				\n				\n				6pm: Dinner\n			\n				\n				\n				\n				\n				9pm: Activity\n			\n				\n			\n			\n				\n				\n				\n				\n				\n				\n				\n				\n				\n				Friday \n			\n				\n				\n				\n				\n				\n				\n				\n					\n				\n				\n				\n				\n				11am: Brunch\n			\n				\n				\n				\n				\n				3pm: Activity\n			\n				\n				\n				\n				\n				6pm: Dinner\n			\n				\n				\n				\n				\n				9pm: Activity\n			\n				\n			\n			\n				\n				\n				\n				\n				\n				\n				\n				\n				\n				Saturday \n			\n				\n				\n				\n				\n				\n				\n				\n					\n				\n				\n				\n				\n				11am: Brunch\n			\n				\n				\n				\n				\n				1pm: Class\n			\n				\n				\n				\n				\n				6pm: Dinner\n			\n				\n				\n				\n				\n				9pm: Activity\n			\n				\n			\n			\n				\n				\n				\n				\n				\n				\n				\n				\n				\n				Sunday \n			\n				\n				\n				\n				\n				\n				\n				\n					\n				\n				\n				\n				\n				11am: Departure
URL:https://tripleroasis.com/event/art-in-the-woods-fall-2025/
LOCATION:Triple R Oasis\, 485 Lost Oasis Way\, Green Mountain\, NC\, 28740\, United States
CATEGORIES:Art Retreat
ATTACH;FMTTYPE=image/jpeg:https://tripleroasis.com/wp-content/uploads/2025/07/AitWFall2025.jpg
ORGANIZER;CN="Triple R Oasis":MAILTO:info@tripleroasis.com
END:VEVENT
BEGIN:VEVENT
DTSTART;TZID=America/New_York:20250813T190000
DTEND;TZID=America/New_York:20250817T120000
DTSTAMP:20260415T224448
CREATED:20250708T170858Z
LAST-MODIFIED:20250710T231330Z
UID:987495452-1755111600-1755432000@tripleroasis.com
SUMMARY:Art in the Woods: Summer 2025
DESCRIPTION:Join us at Triple R Oasis for Art in the Woods\, a four day art & craft retreat. Art in the Woods allows you to “choose your own adventure”;  whether painting\, drawing\, scrapbooking\, creating pottery\, jewelry making\, reading\, writing or sewing\, bring the art or craft you love to do. There will be classes available and an onsite store with limited art supplies if you are just getting started or want to learn something new. Nestled in the Western North Carolina mountains\, Triple R Oasis affords you the opportunity to commune with nature\, see the spring flowers bloom and to enjoy both crisp mornings and a sky full of stars. \nThe retreat begins Wednesday in the late afternoon and ends Sunday at noon. Registration fee starts at $300 for 2 nights\, plus extend for an additional $100 per night for up to 4 nights. Fee includes lodging\, meals\, small gifts\, classes taught by professional art instructors\, your own space for creating during the weekend\, and use of non-consumable tools. Private lodging rooms are available for an additional fee. \nWe want our events to be accessible for everyone so please contact us if you are interested in a day rate or we also offer reduced rates based on special circumstances. Additionally\, you’ll receive a discount for you and a friend when you refer them to the event. Contact us for more information. \nWe plan to have 2 meals per day – brunch between 11am-noon and dinner at 6pm. Around that there will be plenty of snackable food and continental breakfast items available. Drinks will also be available. Please let us know if you have any special diet restrictions so we can see if we can accommodate. \nThis long weekend includes beautiful views\, arts & crafts\, games\, and connection! The Toe River is less than a mile from the Retreat Center and there is plenty of hiking opportunities available on our 30 acres or in surrounding parks. We are within a short drive to Asheville\, Grandfather Mountain\, Boone\, Blowing Rock\, and Mount Mitchell\, the highest peak on the East Coast. There’s plenty of adventure around if you decide to explore! \n			\n			\n				\n				\n				\n				\n			\n				\n				\n				\n				\n				\n				\n				\n				\n				\n				\n				What's Included\n				\n			\n			\n				\n				\n				\n				\n			\n				\n				\n				\n				\n				\n				\n				\n				\n				\n				\n				\n				\n				\n					\n				\n				\n				\n				\n				Up to 4 nights shared accommodations\n			\n				\n				\n				\n				\n				Brunch\, dinner\, snacks & drinks\n			\n				\n				\n				\n				\n				Plenty of time to create\n			\n				\n			\n			\n				\n				\n				\n				\n				\n				\n				\n				\n				\n				\n				\n				\n					\n				\n				\n				\n				\n				1 Hour art or craft lesson\n			\n				\n				\n				\n				\n				Daily & Nightly activities\n			\n				\n				\n				\n				\n				Optional leisurely hike on property\n			\n				\n			\n			\n				\n				\n				\n				\n			\n				\n				\n				\n				\n				\n				\n				\n				\n				\n				\n				Daily Schedule\n				\n			\n			\n				\n				\n				\n				\n			\n				\n				\n				\n				\n				\n				\n				\n				\n				\n				\n				Wednesday\n			\n				\n				\n				\n				\n				\n				\n				\n					\n				\n				\n				\n				\n				7pm: Start creating\n			\n				\n			\n				\n				\n				\n				\n				Thursday\n			\n				\n				\n				\n				\n				\n				\n				\n					\n				\n				\n				\n				\n				11am: Brunch\n			\n				\n				\n				\n				\n				3pm: Activity\n			\n				\n				\n				\n				\n				6pm: Dinner\n			\n				\n				\n				\n				\n				9pm: Activity\n			\n				\n			\n			\n				\n				\n				\n				\n				\n				\n				\n				\n				\n				Friday\n			\n				\n				\n				\n				\n				\n				\n				\n					\n				\n				\n				\n				\n				11am: Brunch\n			\n				\n				\n				\n				\n				3pm: Activity\n			\n				\n				\n				\n				\n				6pm: Dinner\n			\n				\n				\n				\n				\n				9pm: Activity\n			\n				\n			\n			\n				\n				\n				\n				\n				\n				\n				\n				\n				\n				Saturday\n			\n				\n				\n				\n				\n				\n				\n				\n					\n				\n				\n				\n				\n				11am: Brunch\n			\n				\n				\n				\n				\n				3pm: Activity\n			\n				\n				\n				\n				\n				6pm: Dinner\n			\n				\n				\n				\n				\n				9pm: Activity\n			\n				\n			\n				\n				\n				\n				\n				Sunday\n			\n				\n				\n				\n				\n				\n				\n				\n					\n				\n				\n				\n				\n				Departure
URL:https://tripleroasis.com/event/art-in-the-woods-summer-2025/
LOCATION:Triple R Oasis\, 485 Lost Oasis Way\, Green Mountain\, NC\, 28740\, United States
CATEGORIES:Art Retreat
ATTACH;FMTTYPE=image/jpeg:https://tripleroasis.com/wp-content/uploads/2025/07/AitWSummer2025.jpg
ORGANIZER;CN="Triple R Oasis":MAILTO:info@tripleroasis.com
END:VEVENT
END:VCALENDAR