BEGIN:VCALENDAR
VERSION:2.0
PRODID:-//Triple R Oasis - ECPv6.15.20//NONSGML v1.0//EN
CALSCALE:GREGORIAN
METHOD:PUBLISH
X-WR-CALNAME:Triple R Oasis
X-ORIGINAL-URL:https://tripleroasis.com
X-WR-CALDESC:Events for Triple R Oasis
REFRESH-INTERVAL;VALUE=DURATION:PT1H
X-Robots-Tag:noindex
X-PUBLISHED-TTL:PT1H
BEGIN:VTIMEZONE
TZID:America/New_York
BEGIN:DAYLIGHT
TZOFFSETFROM:-0500
TZOFFSETTO:-0400
TZNAME:EDT
DTSTART:20240310T070000
END:DAYLIGHT
BEGIN:STANDARD
TZOFFSETFROM:-0400
TZOFFSETTO:-0500
TZNAME:EST
DTSTART:20241103T060000
END:STANDARD
BEGIN:DAYLIGHT
TZOFFSETFROM:-0500
TZOFFSETTO:-0400
TZNAME:EDT
DTSTART:20250309T070000
END:DAYLIGHT
BEGIN:STANDARD
TZOFFSETFROM:-0400
TZOFFSETTO:-0500
TZNAME:EST
DTSTART:20251102T060000
END:STANDARD
BEGIN:DAYLIGHT
TZOFFSETFROM:-0500
TZOFFSETTO:-0400
TZNAME:EDT
DTSTART:20260308T070000
END:DAYLIGHT
BEGIN:STANDARD
TZOFFSETFROM:-0400
TZOFFSETTO:-0500
TZNAME:EST
DTSTART:20261101T060000
END:STANDARD
END:VTIMEZONE
BEGIN:VTIMEZONE
TZID:UTC
BEGIN:STANDARD
TZOFFSETFROM:+0000
TZOFFSETTO:+0000
TZNAME:UTC
DTSTART:20240101T000000
END:STANDARD
END:VTIMEZONE
BEGIN:VEVENT
DTSTART;TZID=America/New_York:20251018T130000
DTEND;TZID=America/New_York:20251018T150000
DTSTAMP:20260422T011813
CREATED:20250918T231605Z
LAST-MODIFIED:20250919T001134Z
UID:987495561-1760792400-1760799600@tripleroasis.com
SUMMARY:Photo Class: Designing Your Themed Photoshoot
DESCRIPTION:Perfect for photographers of all levels\, you will learn to style your scenes and create images that grab attention.\n\n\nWhat you will master:\n\nTheme Development: Move past generic pictures by developing a unique concept for your shoot.\nSourcing & Styling: Discover how to find and choose the right props\, backgrounds\, and accessories to bring your theme to life. We will cover creative sourcing strategies for everything from flea markets to natural elements.\nSet Dressing & Prop Use: Master the art of arranging objects and dressing your scene. Understand how to use props and backgrounds effectively to build a compelling and realistic environment.\nComposition: Learn to use techniques like leading lines\, framing\, and negative space to create a visually appealing image.\nBasic Photo Editing: The magic doesn’t end with the shutter click (or camera phone button). This class introduces you to the essentials of basic photo editing using beginner-friendly apps. We will cover fundamental adjustments like:\n\nCropping and Straightening: Fix horizons and improve composition.\nWhite Balance and Color Correction: Ensure your colors look true-to-life and balanced.\nExposure and Contrast: Adjust brightness and tone to add drama or softness.\nSharpening: Make your images appear crisp and clear.\n\n\n\n\nWho is this course for?\nThis workshop is ideal for anyone who wants to improve their creative and technical skills to produce more professional-looking images. It is especially beneficial for:\n\nAspiring and beginner photographers.\nBloggers and content creators.\nSmall business owners creating their own product photography.\nAnyone who wants to elevate their smartphone photography.\n\nNote: This course focuses on practical styling and editing techniques\, not advanced camera operation. All you need is a smartphone and a desire to create amazing photos.
URL:https://tripleroasis.com/event/photo-class-designing-your-themed-photoshoot/
LOCATION:Triple R Oasis\, 485 Lost Oasis Way\, Green Mountain\, NC\, 28740\, United States
CATEGORIES:Class
ATTACH;FMTTYPE=image/jpeg:https://tripleroasis.com/wp-content/uploads/2025/09/PhotoClass_Photoshoot-scaled.jpg
ORGANIZER;CN="Triple R Oasis":MAILTO:info@tripleroasis.com
END:VEVENT
BEGIN:VEVENT
DTSTART;TZID=America/New_York:20251016T150000
DTEND;TZID=America/New_York:20251020T110000
DTSTAMP:20260422T011813
CREATED:20250708T175343Z
LAST-MODIFIED:20260301T234025Z
UID:987495497-1760626800-1760958000@tripleroasis.com
SUMMARY:Art in the Woods: Fall 2025
DESCRIPTION:Join us at Triple R Oasis for Art in the Woods\, a three day art & craft retreat. Art in the Woods allows you to “choose your own adventure”;  whether painting\, drawing\, scrapbooking\, creating pottery\, jewelry making\, reading\, writing or sewing\, bring the art or craft you love to do. There will be classes available and an onsite store with limited art supplies if you are just getting started or want to learn something new. Nestled in the Western North Carolina mountains\, Triple R Oasis affords you the opportunity to commune with nature\, see the fall colors and to enjoy both crisp mornings and a sky full of stars. \nThe retreat begins Thursday at 3:00pm and ends Sunday at 11am. Registration fee is $125 per day and includes lodging\, meals\, small gifts\, a class taught by professional art instructors\, your own space for creating during the weekend\, and use of non-consumable tools. \nWe want our events to be accessible for everyone and we can offer reduced rates based on special circumstances. Additionally\, you’ll receive a discount for you and a friend when you refer them to the event. Contact us for more information. \nWe plan to have 2 meals per day – brunch between 11am-noon and dinner at 6pm. Around that there will be plenty of snackable food and continental breakfast items available. Drinks will also be available. Please let us know if you have any special diet restrictions so we can see if we can accommodate. \nThis long weekend includes beautiful views\, arts & crafts\, games\, and connection! The Toe River is less than a mile from the Retreat Center and there is plenty of hiking opportunities available on our 30 acres or in surrounding parks. We are within a short drive to Asheville\, Grandfather Mountain\, Boone\, Blowing Rock\, and Mount Mitchell\, the highest peak on the East Coast. There’s plenty of adventure around if you decide to explore! \n			\n			\n				\n				\n				\n				\n			\n				\n				\n				\n				\n				\n				\n				\n				\n				\n				\n				What's Included\n				\n			\n			\n				\n				\n				\n				\n			\n				\n				\n				\n				\n				\n				\n				\n				\n				\n				\n				\n				\n				\n					\n				\n				\n				\n				\n				Up to 3 nights shared accommodations\n			\n				\n				\n				\n				\n				Brunch\, dinner\, snacks & drinks\n			\n				\n				\n				\n				\n				Plenty of time to create\n			\n				\n			\n			\n				\n				\n				\n				\n				\n				\n				\n				\n				\n				\n				\n				\n					\n				\n				\n				\n				\n				2 Hour art class: Photography\n			\n				\n				\n				\n				\n				Daily & nightly activities\n			\n				\n				\n				\n				\n				Optional leisurely hike on property\n			\n				\n			\n			\n				\n				\n				\n				\n			\n				\n				\n				\n				\n				\n				\n				\n				\n				\n				\n				Daily Schedule\n				\n			\n			\n				\n				\n				\n				\n			\n				\n				\n				\n				\n				\n				\n				\n				\n				\n				\n				Thursday\n			\n				\n				\n				\n				\n				\n				\n				\n					\n				\n				\n				\n				\n				3pm: Welcome\n			\n				\n				\n				\n				\n				6pm: Dinner\n			\n				\n				\n				\n				\n				9pm: Activity\n			\n				\n			\n			\n				\n				\n				\n				\n				\n				\n				\n				\n				\n				Friday \n			\n				\n				\n				\n				\n				\n				\n				\n					\n				\n				\n				\n				\n				11am: Brunch\n			\n				\n				\n				\n				\n				3pm: Activity\n			\n				\n				\n				\n				\n				6pm: Dinner\n			\n				\n				\n				\n				\n				9pm: Activity\n			\n				\n			\n			\n				\n				\n				\n				\n				\n				\n				\n				\n				\n				Saturday \n			\n				\n				\n				\n				\n				\n				\n				\n					\n				\n				\n				\n				\n				11am: Brunch\n			\n				\n				\n				\n				\n				1pm: Class\n			\n				\n				\n				\n				\n				6pm: Dinner\n			\n				\n				\n				\n				\n				9pm: Activity\n			\n				\n			\n			\n				\n				\n				\n				\n				\n				\n				\n				\n				\n				Sunday \n			\n				\n				\n				\n				\n				\n				\n				\n					\n				\n				\n				\n				\n				11am: Departure
URL:https://tripleroasis.com/event/art-in-the-woods-fall-2025/
LOCATION:Triple R Oasis\, 485 Lost Oasis Way\, Green Mountain\, NC\, 28740\, United States
CATEGORIES:Art Retreat
ATTACH;FMTTYPE=image/jpeg:https://tripleroasis.com/wp-content/uploads/2025/07/AitWFall2025.jpg
ORGANIZER;CN="Triple R Oasis":MAILTO:info@tripleroasis.com
END:VEVENT
BEGIN:VEVENT
DTSTART;TZID=America/New_York:20250813T190000
DTEND;TZID=America/New_York:20250817T120000
DTSTAMP:20260422T011813
CREATED:20250708T170858Z
LAST-MODIFIED:20250710T231330Z
UID:987495452-1755111600-1755432000@tripleroasis.com
SUMMARY:Art in the Woods: Summer 2025
DESCRIPTION:Join us at Triple R Oasis for Art in the Woods\, a four day art & craft retreat. Art in the Woods allows you to “choose your own adventure”;  whether painting\, drawing\, scrapbooking\, creating pottery\, jewelry making\, reading\, writing or sewing\, bring the art or craft you love to do. There will be classes available and an onsite store with limited art supplies if you are just getting started or want to learn something new. Nestled in the Western North Carolina mountains\, Triple R Oasis affords you the opportunity to commune with nature\, see the spring flowers bloom and to enjoy both crisp mornings and a sky full of stars. \nThe retreat begins Wednesday in the late afternoon and ends Sunday at noon. Registration fee starts at $300 for 2 nights\, plus extend for an additional $100 per night for up to 4 nights. Fee includes lodging\, meals\, small gifts\, classes taught by professional art instructors\, your own space for creating during the weekend\, and use of non-consumable tools. Private lodging rooms are available for an additional fee. \nWe want our events to be accessible for everyone so please contact us if you are interested in a day rate or we also offer reduced rates based on special circumstances. Additionally\, you’ll receive a discount for you and a friend when you refer them to the event. Contact us for more information. \nWe plan to have 2 meals per day – brunch between 11am-noon and dinner at 6pm. Around that there will be plenty of snackable food and continental breakfast items available. Drinks will also be available. Please let us know if you have any special diet restrictions so we can see if we can accommodate. \nThis long weekend includes beautiful views\, arts & crafts\, games\, and connection! The Toe River is less than a mile from the Retreat Center and there is plenty of hiking opportunities available on our 30 acres or in surrounding parks. We are within a short drive to Asheville\, Grandfather Mountain\, Boone\, Blowing Rock\, and Mount Mitchell\, the highest peak on the East Coast. There’s plenty of adventure around if you decide to explore! \n			\n			\n				\n				\n				\n				\n			\n				\n				\n				\n				\n				\n				\n				\n				\n				\n				\n				What's Included\n				\n			\n			\n				\n				\n				\n				\n			\n				\n				\n				\n				\n				\n				\n				\n				\n				\n				\n				\n				\n				\n					\n				\n				\n				\n				\n				Up to 4 nights shared accommodations\n			\n				\n				\n				\n				\n				Brunch\, dinner\, snacks & drinks\n			\n				\n				\n				\n				\n				Plenty of time to create\n			\n				\n			\n			\n				\n				\n				\n				\n				\n				\n				\n				\n				\n				\n				\n				\n					\n				\n				\n				\n				\n				1 Hour art or craft lesson\n			\n				\n				\n				\n				\n				Daily & Nightly activities\n			\n				\n				\n				\n				\n				Optional leisurely hike on property\n			\n				\n			\n			\n				\n				\n				\n				\n			\n				\n				\n				\n				\n				\n				\n				\n				\n				\n				\n				Daily Schedule\n				\n			\n			\n				\n				\n				\n				\n			\n				\n				\n				\n				\n				\n				\n				\n				\n				\n				\n				Wednesday\n			\n				\n				\n				\n				\n				\n				\n				\n					\n				\n				\n				\n				\n				7pm: Start creating\n			\n				\n			\n				\n				\n				\n				\n				Thursday\n			\n				\n				\n				\n				\n				\n				\n				\n					\n				\n				\n				\n				\n				11am: Brunch\n			\n				\n				\n				\n				\n				3pm: Activity\n			\n				\n				\n				\n				\n				6pm: Dinner\n			\n				\n				\n				\n				\n				9pm: Activity\n			\n				\n			\n			\n				\n				\n				\n				\n				\n				\n				\n				\n				\n				Friday\n			\n				\n				\n				\n				\n				\n				\n				\n					\n				\n				\n				\n				\n				11am: Brunch\n			\n				\n				\n				\n				\n				3pm: Activity\n			\n				\n				\n				\n				\n				6pm: Dinner\n			\n				\n				\n				\n				\n				9pm: Activity\n			\n				\n			\n			\n				\n				\n				\n				\n				\n				\n				\n				\n				\n				Saturday\n			\n				\n				\n				\n				\n				\n				\n				\n					\n				\n				\n				\n				\n				11am: Brunch\n			\n				\n				\n				\n				\n				3pm: Activity\n			\n				\n				\n				\n				\n				6pm: Dinner\n			\n				\n				\n				\n				\n				9pm: Activity\n			\n				\n			\n				\n				\n				\n				\n				Sunday\n			\n				\n				\n				\n				\n				\n				\n				\n					\n				\n				\n				\n				\n				Departure
URL:https://tripleroasis.com/event/art-in-the-woods-summer-2025/
LOCATION:Triple R Oasis\, 485 Lost Oasis Way\, Green Mountain\, NC\, 28740\, United States
CATEGORIES:Art Retreat
ATTACH;FMTTYPE=image/jpeg:https://tripleroasis.com/wp-content/uploads/2025/07/AitWSummer2025.jpg
ORGANIZER;CN="Triple R Oasis":MAILTO:info@tripleroasis.com
END:VEVENT
BEGIN:VEVENT
DTSTART;TZID=America/New_York:20250726T130000
DTEND;TZID=America/New_York:20250726T170000
DTSTAMP:20260422T011813
CREATED:20250708T003832Z
LAST-MODIFIED:20250724T211037Z
UID:987495438-1753534800-1753549200@tripleroasis.com
SUMMARY:Lost Art in the Woods: Canning Demo
DESCRIPTION:Black Raspberry season is winding down here at Triple R Oasis. What better way to preserve them and enjoy their peak freshness year round than making and canning homemade jam! Our Canning Demonstration will be led by our own Deb McLeod who will share her 45 years of generational knowledge on proper canning techniques including tips for picking berries\, prepping fruit for preservation\, selecting the right tools\, and tricks for achieving the tastiest batch of jam. \nThis Demonstration will include seeing a batch of Black Raspberries (harvested here on property at Triple R) from start to finish and will include a Canning Guide for you to take home. Cost for the Demonstration is $25. \nJoin us to learn the Lost Art of making and preserving homemade jam!
URL:https://tripleroasis.com/event/lost-art-in-the-woods-canning-demonstration/
LOCATION:Triple R Oasis\, 485 Lost Oasis Way\, Green Mountain\, NC\, 28740\, United States
CATEGORIES:Class
ATTACH;FMTTYPE=image/jpeg:https://tripleroasis.com/wp-content/uploads/2025/06/CanningDemo-scaled.jpg
ORGANIZER;CN="Triple R Oasis":MAILTO:info@tripleroasis.com
END:VEVENT
BEGIN:VEVENT
DTSTART;TZID=UTC:20250607T110000
DTEND;TZID=UTC:20250607T150000
DTSTAMP:20260422T011813
CREATED:20250519T011257Z
LAST-MODIFIED:20250529T010919Z
UID:250445-1749294000-1749308400@tripleroasis.com
SUMMARY:Layered Landscapes Workshop
DESCRIPTION:This Workshop is perfect for new crafters\, busy crafters\, or crafters who want a quick and easy project. Join us on Saturday\, June 7th anytime between 11am and 3pm. Deb McLeod\, Owner of Triple R Oasis\, will guide you through this 1 to 1.5 hour project (depending on how creative you get). \nAll supplies are included and you’ll leave with four completed and framed pieces of art you can use for home decor or as gifts for friends and family! \nSample pieces will be on display to inspire you as well as extra supplies for adding texture\, additional color and embellishments will be available. \nThis Workshop takes place during the Toe River Arts 2025 Spring Studio Tour. Come for the Tour and make some art while you’re here or come for the art making and stay to look at the art on display. Either way\, it’s a win-win!
URL:https://tripleroasis.com/event/layered-landscapes-workshop/
LOCATION:Triple R Oasis\, 485 Lost Oasis Way\, Green Mountain\, NC\, 28740\, United States
CATEGORIES:Workshop
ATTACH;FMTTYPE=image/jpeg:https://tripleroasis.com/wp-content/uploads/2025/05/LayeredLanscapes.jpg
ORGANIZER;CN="Triple R Oasis":MAILTO:info@tripleroasis.com
END:VEVENT
BEGIN:VEVENT
DTSTART;TZID=UTC:20250606T100000
DTEND;TZID=UTC:20250608T170000
DTSTAMP:20260422T011813
CREATED:20250519T043359Z
LAST-MODIFIED:20250519T043516Z
UID:250438-1749204000-1749402000@tripleroasis.com
SUMMARY:Toe River Arts 2025 Spring Studio Tour
DESCRIPTION:Be sure to join us June 6–8\, 2025\, from 10 am–5 pm each day as a participating gallery for the Toe River Arts 2025 Spring Studio Tour!. We will have a variety of artists on hand exhibiting their work including our resident artists Rick Shimer and Joe “The Gooch” Grondalski. From photography to paintings\, paper crafts to jewelry\, we’ll have a variety of work and an eclectic range of subject matter for you to explore. \nFeeling a little crafty? Be sure to check out our Layered Landscapes workshop where you will be able to make your own paper creations and walk away with four completed and framed works perfect for you to keep or use as gifts. Register for Layered Landscapes here! \nThe Toe River Arts Studio Tour offers local and visiting art collectors the chance to see Toe River Art’s artists in their natural\, creative studio habitats — a true glimpse into the mind and makings of each artist.
URL:https://tripleroasis.com/event/toe-river-arts-2025-spring-studio-tour/
LOCATION:Triple R Oasis\, 485 Lost Oasis Way\, Green Mountain\, NC\, 28740\, United States
ATTACH;FMTTYPE=image/jpeg:https://tripleroasis.com/wp-content/uploads/2025/05/TRAStudioTour.jpg
ORGANIZER;CN="Toe River Arts":MAILTO:info@toeriverarts.org
END:VEVENT
END:VCALENDAR