BEGIN:VCALENDAR
VERSION:2.0
PRODID:-//Triple R Oasis - ECPv6.15.20//NONSGML v1.0//EN
CALSCALE:GREGORIAN
METHOD:PUBLISH
X-WR-CALNAME:Triple R Oasis
X-ORIGINAL-URL:https://tripleroasis.com
X-WR-CALDESC:Events for Triple R Oasis
REFRESH-INTERVAL;VALUE=DURATION:PT1H
X-Robots-Tag:noindex
X-PUBLISHED-TTL:PT1H
BEGIN:VTIMEZONE
TZID:America/New_York
BEGIN:DAYLIGHT
TZOFFSETFROM:-0500
TZOFFSETTO:-0400
TZNAME:EDT
DTSTART:20250309T070000
END:DAYLIGHT
BEGIN:STANDARD
TZOFFSETFROM:-0400
TZOFFSETTO:-0500
TZNAME:EST
DTSTART:20251102T060000
END:STANDARD
BEGIN:DAYLIGHT
TZOFFSETFROM:-0500
TZOFFSETTO:-0400
TZNAME:EDT
DTSTART:20260308T070000
END:DAYLIGHT
BEGIN:STANDARD
TZOFFSETFROM:-0400
TZOFFSETTO:-0500
TZNAME:EST
DTSTART:20261101T060000
END:STANDARD
BEGIN:DAYLIGHT
TZOFFSETFROM:-0500
TZOFFSETTO:-0400
TZNAME:EDT
DTSTART:20270314T070000
END:DAYLIGHT
BEGIN:STANDARD
TZOFFSETFROM:-0400
TZOFFSETTO:-0500
TZNAME:EST
DTSTART:20271107T060000
END:STANDARD
END:VTIMEZONE
BEGIN:VEVENT
DTSTART;TZID=America/New_York:20260423T150000
DTEND;TZID=America/New_York:20260426T110000
DTSTAMP:20260422T060646
CREATED:20260302T030456Z
LAST-MODIFIED:20260323T140351Z
UID:987495655-1776956400-1777201200@tripleroasis.com
SUMMARY:Art in the Woods: Spring 2026
DESCRIPTION:Join us at Triple R Oasis for Art in the Woods\, a three day art & craft retreat. Art in the Woods allows you to “choose your own adventure”;  whether painting\, drawing\, scrapbooking\, creating pottery\, jewelry making\, reading\, writing or sewing\, bring the art or craft you love to do. There will be classes available and an onsite store with limited art supplies if you are just getting started or want to learn something new. Nestled in the Western North Carolina mountains\, Triple R Oasis affords you the opportunity to commune with nature\, see the fall colors and to enjoy both crisp mornings and a sky full of stars. \nThe retreat begins Thursday at 3:00pm and ends Sunday at 11am. Registration fee is $125 per day and includes lodging\, meals\, small gifts\, a class taught by professional art instructors\, your own space for creating during the weekend\, and use of non-consumable tools. \nWe want our events to be accessible for everyone and we can offer reduced rates based on special circumstances. Additionally\, you’ll receive a discount for you and a friend when you refer them to the event. Contact us for more information. \nWe plan to have 2 meals per day – brunch between 11am-noon and dinner at 6pm. Around that there will be plenty of snackable food and continental breakfast items available. Drinks will also be available. Please let us know if you have any special diet restrictions so we can see if we can accommodate. \nThis long weekend includes beautiful views\, arts & crafts\, games\, and connection! The Toe River is less than a mile from the Retreat Center and there is plenty of hiking opportunities available on our 30 acres or in surrounding parks. We are within a short drive to Asheville\, Grandfather Mountain\, Boone\, Blowing Rock\, and Mount Mitchell\, the highest peak on the East Coast. There’s plenty of adventure around if you decide to explore!\n			\n			\n				\n				\n				\n				\n			\n				\n				\n				\n				\n				\n				\n				\n				\n				\n				\n				What's Included\n				\n			\n			\n				\n				\n				\n				\n			\n				\n				\n				\n				\n				\n				\n				\n				\n				\n				\n				\n				\n				\n					\n				\n				\n				\n				\n				Up to 3 nights shared accommodations\n			\n				\n				\n				\n				\n				Brunch\, dinner\, snacks & drinks\n			\n				\n				\n				\n				\n				Plenty of time to create\n			\n				\n			\n			\n				\n				\n				\n				\n				\n				\n				\n				\n				\n				\n				\n				\n					\n				\n				\n				\n				\n				2 Hour art class: Paper Craft\n			\n				\n				\n				\n				\n				Daily & nightly activities\n			\n				\n				\n				\n				\n				Optional leisurely hike on property\n			\n				\n			\n			\n				\n				\n				\n				\n			\n				\n				\n				\n				\n				\n				\n				\n				\n				\n				\n				Daily Schedule\n				\n			\n			\n				\n				\n				\n				\n			\n				\n				\n				\n				\n				\n				\n				\n				\n				\n				\n				Thursday \n			\n				\n				\n				\n				\n				\n				\n				\n					\n				\n				\n				\n				\n				3pm: Welcome\n			\n				\n				\n				\n				\n				6pm: Dinner\n			\n				\n				\n				\n				\n				9pm: Activity\n			\n				\n			\n			\n				\n				\n				\n				\n				\n				\n				\n				\n				\n				Friday\n			\n				\n				\n				\n				\n				\n				\n				\n					\n				\n				\n				\n				\n				11am: Brunch\n			\n				\n				\n				\n				\n				3pm: Activity\n			\n				\n				\n				\n				\n				6pm: Dinner\n			\n				\n				\n				\n				\n				9pm: Activity\n			\n				\n			\n			\n				\n				\n				\n				\n				\n				\n				\n				\n				\n				Saturday\n			\n				\n				\n				\n				\n				\n				\n				\n					\n				\n				\n				\n				\n				11am: Brunch\n			\n				\n				\n				\n				\n				1pm: Class\n			\n				\n				\n				\n				\n				6pm: Dinner\n			\n				\n				\n				\n				\n				9pm: Activity\n			\n				\n			\n			\n				\n				\n				\n				\n				\n				\n				\n				\n				\n				Sunday\n			\n				\n				\n				\n				\n				\n				\n				\n					\n				\n				\n				\n				\n				11am: Departure
URL:https://tripleroasis.com/event/art-in-the-woods-spring-2026/
LOCATION:Triple R Oasis\, 485 Lost Oasis Way\, Green Mountain\, NC\, 28740\, United States
CATEGORIES:Art Retreat
ATTACH;FMTTYPE=image/png:https://tripleroasis.com/wp-content/uploads/2026/03/AitW-Spring-2026-Website.png
ORGANIZER;CN="Triple R Oasis":MAILTO:info@tripleroasis.com
END:VEVENT
BEGIN:VEVENT
DTSTART;TZID=America/New_York:20260425T130000
DTEND;TZID=America/New_York:20260425T150000
DTSTAMP:20260422T060646
CREATED:20260323T135801Z
LAST-MODIFIED:20260323T142650Z
UID:987495704-1777122000-1777129200@tripleroasis.com
SUMMARY:Intro to Papermaking
DESCRIPTION:We’re excited to announce our first class of the year: Intro to Papermaking! This introductory class offers hands-on experience in creating handmade paper from recycled materials and plant fibers\, covering techniques like sheet forming\, couching\, and drying. Participants will learn to make pulp using diverse materials\, including recycled paper and plant fibers\, use a mold and deckle\, and press/dry sheets. \nWe’ll also include creative touches by adding botanicals sourced from the property here at Triple R Oasis! \nRemember\, this is a hands-on class and all of your materials are provided! Wear comfortable clothes and shoes that you don’t mind getting a little messy.  \nNOTE: this class takes place during our Art in the Wood Spring Retreat. If you’d like to join us for the whole day or even the weekend\, register HERE.
URL:https://tripleroasis.com/event/intro-to-papermaking/
LOCATION:Triple R Oasis\, 485 Lost Oasis Way\, Green Mountain\, NC\, 28740\, United States
CATEGORIES:Class
ATTACH;FMTTYPE=image/png:https://tripleroasis.com/wp-content/uploads/2026/03/Paper-Class-Website.png
ORGANIZER;CN="Triple R Oasis":MAILTO:info@tripleroasis.com
END:VEVENT
BEGIN:VEVENT
DTSTART;TZID=America/New_York:20260716T150000
DTEND;TZID=America/New_York:20260719T110000
DTSTAMP:20260422T060646
CREATED:20260302T030523Z
LAST-MODIFIED:20260302T030523Z
UID:987495667-1784214000-1784458800@tripleroasis.com
SUMMARY:Art in the Woods: Summer 2026
DESCRIPTION:Join us at Triple R Oasis for Art in the Woods\, a three day art & craft retreat. Art in the Woods allows you to “choose your own adventure”;  whether painting\, drawing\, scrapbooking\, creating pottery\, jewelry making\, reading\, writing or sewing\, bring the art or craft you love to do. There will be classes available and an onsite store with limited art supplies if you are just getting started or want to learn something new. Nestled in the Western North Carolina mountains\, Triple R Oasis affords you the opportunity to commune with nature\, see the fall colors and to enjoy both crisp mornings and a sky full of stars. \nThe retreat begins Thursday at 3:00pm and ends Sunday at 11am. Registration fee is $125 per day and includes lodging\, meals\, small gifts\, a class taught by professional art instructors\, your own space for creating during the weekend\, and use of non-consumable tools. \nWe want our events to be accessible for everyone and we can offer reduced rates based on special circumstances. Additionally\, you’ll receive a discount for you and a friend when you refer them to the event. Contact us for more information. \nWe plan to have 2 meals per day – brunch between 11am-noon and dinner at 6pm. Around that there will be plenty of snackable food and continental breakfast items available. Drinks will also be available. Please let us know if you have any special diet restrictions so we can see if we can accommodate. \nThis long weekend includes beautiful views\, arts & crafts\, games\, and connection! The Toe River is less than a mile from the Retreat Center and there is plenty of hiking opportunities available on our 30 acres or in surrounding parks. We are within a short drive to Asheville\, Grandfather Mountain\, Boone\, Blowing Rock\, and Mount Mitchell\, the highest peak on the East Coast. There’s plenty of adventure around if you decide to explore! \n			\n			\n				\n				\n				\n				\n			\n				\n				\n				\n				\n				\n				\n				\n				\n				\n				\n				What's Included\n				\n			\n			\n				\n				\n				\n				\n			\n				\n				\n				\n				\n				\n				\n				\n				\n				\n				\n				\n				\n				\n					\n				\n				\n				\n				\n				Up to 3 nights shared accommodations\n			\n				\n				\n				\n				\n				Brunch\, dinner\, snacks & drinks\n			\n				\n				\n				\n				\n				Plenty of time to create\n			\n				\n			\n			\n				\n				\n				\n				\n				\n				\n				\n				\n				\n				\n				\n				\n					\n				\n				\n				\n				\n				2 Hour art class: TBD\n			\n				\n				\n				\n				\n				Daily & nightly activities\n			\n				\n				\n				\n				\n				Optional leisurely hike on property\n			\n				\n			\n			\n				\n				\n				\n				\n			\n				\n				\n				\n				\n				\n				\n				\n				\n				\n				\n				Daily Schedule\n				\n			\n			\n				\n				\n				\n				\n			\n				\n				\n				\n				\n				\n				\n				\n				\n				\n				\n				Thursday\n			\n				\n				\n				\n				\n				\n				\n				\n					\n				\n				\n				\n				\n				3pm: Welcome\n			\n				\n				\n				\n				\n				6pm: Dinner\n			\n				\n				\n				\n				\n				9pm: Activity\n			\n				\n			\n			\n				\n				\n				\n				\n				\n				\n				\n				\n				\n				Friday \n			\n				\n				\n				\n				\n				\n				\n				\n					\n				\n				\n				\n				\n				11am: Brunch\n			\n				\n				\n				\n				\n				3pm: Activity\n			\n				\n				\n				\n				\n				6pm: Dinner\n			\n				\n				\n				\n				\n				9pm: Activity\n			\n				\n			\n			\n				\n				\n				\n				\n				\n				\n				\n				\n				\n				Saturday \n			\n				\n				\n				\n				\n				\n				\n				\n					\n				\n				\n				\n				\n				11am: Brunch\n			\n				\n				\n				\n				\n				1pm: Class\n			\n				\n				\n				\n				\n				6pm: Dinner\n			\n				\n				\n				\n				\n				9pm: Activity\n			\n				\n			\n			\n				\n				\n				\n				\n				\n				\n				\n				\n				\n				Sunday \n			\n				\n				\n				\n				\n				\n				\n				\n					\n				\n				\n				\n				\n				11am: Departure
URL:https://tripleroasis.com/event/art-in-the-woods-summer-2026/
LOCATION:Triple R Oasis\, 485 Lost Oasis Way\, Green Mountain\, NC\, 28740\, United States
CATEGORIES:Art Retreat
ATTACH;FMTTYPE=image/png:https://tripleroasis.com/wp-content/uploads/2026/03/AitW-Summer-2026-Website.png
ORGANIZER;CN="Triple R Oasis":MAILTO:info@tripleroasis.com
END:VEVENT
BEGIN:VEVENT
DTSTART;TZID=America/New_York:20261015T150000
DTEND;TZID=America/New_York:20261018T110000
DTSTAMP:20260422T060646
CREATED:20260302T030543Z
LAST-MODIFIED:20260302T030543Z
UID:987495682-1792076400-1792321200@tripleroasis.com
SUMMARY:Art in the Woods: Fall 2026
DESCRIPTION:Join us at Triple R Oasis for Art in the Woods\, a three day art & craft retreat. Art in the Woods allows you to “choose your own adventure”;  whether painting\, drawing\, scrapbooking\, creating pottery\, jewelry making\, reading\, writing or sewing\, bring the art or craft you love to do. There will be classes available and an onsite store with limited art supplies if you are just getting started or want to learn something new. Nestled in the Western North Carolina mountains\, Triple R Oasis affords you the opportunity to commune with nature\, see the fall colors and to enjoy both crisp mornings and a sky full of stars. \nThe retreat begins Thursday at 3:00pm and ends Sunday at 11am. Registration fee is $125 per day and includes lodging\, meals\, small gifts\, a class taught by professional art instructors\, your own space for creating during the weekend\, and use of non-consumable tools. \nWe want our events to be accessible for everyone and we can offer reduced rates based on special circumstances. Additionally\, you’ll receive a discount for you and a friend when you refer them to the event. Contact us for more information. \nWe plan to have 2 meals per day – brunch between 11am-noon and dinner at 6pm. Around that there will be plenty of snackable food and continental breakfast items available. Drinks will also be available. Please let us know if you have any special diet restrictions so we can see if we can accommodate. \nThis long weekend includes beautiful views\, arts & crafts\, games\, and connection! The Toe River is less than a mile from the Retreat Center and there is plenty of hiking opportunities available on our 30 acres or in surrounding parks. We are within a short drive to Asheville\, Grandfather Mountain\, Boone\, Blowing Rock\, and Mount Mitchell\, the highest peak on the East Coast. There’s plenty of adventure around if you decide to explore! \n			\n			\n				\n				\n				\n				\n			\n				\n				\n				\n				\n				\n				\n				\n				\n				\n				\n				What's Included\n				\n			\n			\n				\n				\n				\n				\n			\n				\n				\n				\n				\n				\n				\n				\n				\n				\n				\n				\n				\n				\n					\n				\n				\n				\n				\n				Up to 3 nights shared accommodations\n			\n				\n				\n				\n				\n				Brunch\, dinner\, snacks & drinks\n			\n				\n				\n				\n				\n				Plenty of time to create\n			\n				\n			\n			\n				\n				\n				\n				\n				\n				\n				\n				\n				\n				\n				\n				\n					\n				\n				\n				\n				\n				2 Hour art class: Paper Moon Photoshoot\n			\n				\n				\n				\n				\n				Daily & nightly activities\n			\n				\n				\n				\n				\n				Optional leisurely hike on property\n			\n				\n			\n			\n				\n				\n				\n				\n			\n				\n				\n				\n				\n				\n				\n				\n				\n				\n				\n				Daily Schedule\n				\n			\n			\n				\n				\n				\n				\n			\n				\n				\n				\n				\n				\n				\n				\n				\n				\n				\n				Thursday\n			\n				\n				\n				\n				\n				\n				\n				\n					\n				\n				\n				\n				\n				3pm: Welcome\n			\n				\n				\n				\n				\n				6pm: Dinner\n			\n				\n				\n				\n				\n				9pm: Activity\n			\n				\n			\n			\n				\n				\n				\n				\n				\n				\n				\n				\n				\n				Friday \n			\n				\n				\n				\n				\n				\n				\n				\n					\n				\n				\n				\n				\n				11am: Brunch\n			\n				\n				\n				\n				\n				3pm: Activity\n			\n				\n				\n				\n				\n				6pm: Dinner\n			\n				\n				\n				\n				\n				9pm: Activity\n			\n				\n			\n			\n				\n				\n				\n				\n				\n				\n				\n				\n				\n				Saturday \n			\n				\n				\n				\n				\n				\n				\n				\n					\n				\n				\n				\n				\n				11am: Brunch\n			\n				\n				\n				\n				\n				1pm: Class\n			\n				\n				\n				\n				\n				6pm: Dinner\n			\n				\n				\n				\n				\n				9pm: Activity\n			\n				\n			\n			\n				\n				\n				\n				\n				\n				\n				\n				\n				\n				Sunday \n			\n				\n				\n				\n				\n				\n				\n				\n					\n				\n				\n				\n				\n				11am: Departure
URL:https://tripleroasis.com/event/art-in-the-woods-fall-2026/
LOCATION:Triple R Oasis\, 485 Lost Oasis Way\, Green Mountain\, NC\, 28740\, United States
CATEGORIES:Art Retreat
ATTACH;FMTTYPE=image/png:https://tripleroasis.com/wp-content/uploads/2026/03/AitW-Fall-2026-Website.png
ORGANIZER;CN="Triple R Oasis":MAILTO:info@tripleroasis.com
END:VEVENT
END:VCALENDAR